BEGIN:VCALENDAR
VERSION:2.0
PRODID:icalendar-ruby
CALSCALE:GREGORIAN
METHOD:PUBLISH
BEGIN:VEVENT
DTSTAMP:20260421T090815Z
UID:69-954513@stjohnscbc.org
DTSTART:20260420T230000Z
DTEND:20260421T000000Z
CLASS:PUBLIC
CREATED:20260326T165028
DESCRIPTION:April 2026 "Mass Choir" Rehearsal dates for your calendar!\n\nT
 hursday\, 4/9 @ 7:00pm \nMonday\, 4/13 @ 7:00pm\nMonday\, 4/20 @ 7:00pm 
 \n\nCome on out and join our Directress Regina McLeod and our Organist Cur
 tis Dukes.\n“Join us and sing" The choir is waiting for you!
LAST-MODIFIED:20260326T165028
LOCATION:
SUMMARY:Mass Choir Rehearsals
URL;VALUE=URI:https://stjohnscbc.org/events/mass-choir-rehearsals--69/2026-
 04-20
ATTACH;FILENAME=April-2026-Choir-Rehearsal.png;FMTTYPE=image/png:https://dq
 5pwpg1q8ru0.cloudfront.net/2026/03/26/20/50/28/8e1d7582-024f-4dae-a910-c23
 2e6d01120/April-2026-Choir-Rehearsal.png
END:VEVENT
END:VCALENDAR
